BEGIN:VCALENDAR
VERSION:2.0
PRODID:-//Hotel VierJahreszeiten - ECPv6.15.12.2//NONSGML v1.0//EN
CALSCALE:GREGORIAN
METHOD:PUBLISH
X-WR-CALNAME:Hotel VierJahreszeiten
X-ORIGINAL-URL:https://vierjahreszeiten-iserlohn.de
X-WR-CALDESC:Veranstaltungen für Hotel VierJahreszeiten
REFRESH-INTERVAL;VALUE=DURATION:PT1H
X-Robots-Tag:noindex
X-PUBLISHED-TTL:PT1H
BEGIN:VTIMEZONE
TZID:Europe/Paris
BEGIN:DAYLIGHT
TZOFFSETFROM:+0100
TZOFFSETTO:+0200
TZNAME:CEST
DTSTART:20230326T010000
END:DAYLIGHT
BEGIN:STANDARD
TZOFFSETFROM:+0200
TZOFFSETTO:+0100
TZNAME:CET
DTSTART:20231029T010000
END:STANDARD
BEGIN:DAYLIGHT
TZOFFSETFROM:+0100
TZOFFSETTO:+0200
TZNAME:CEST
DTSTART:20240331T010000
END:DAYLIGHT
BEGIN:STANDARD
TZOFFSETFROM:+0200
TZOFFSETTO:+0100
TZNAME:CET
DTSTART:20241027T010000
END:STANDARD
BEGIN:DAYLIGHT
TZOFFSETFROM:+0100
TZOFFSETTO:+0200
TZNAME:CEST
DTSTART:20250330T010000
END:DAYLIGHT
BEGIN:STANDARD
TZOFFSETFROM:+0200
TZOFFSETTO:+0100
TZNAME:CET
DTSTART:20251026T010000
END:STANDARD
END:VTIMEZONE
BEGIN:VEVENT
DTSTART;TZID=Europe/Paris:20240209T200000
DTEND;TZID=Europe/Paris:20240209T220000
DTSTAMP:20260420T122557
CREATED:20231204T101528Z
LAST-MODIFIED:20231204T101529Z
UID:10102-1707508800-1707516000@vierjahreszeiten-iserlohn.de
SUMMARY:Whiskey Tasting
DESCRIPTION:Wir entführen Sie in die spannende und vielfältige Welt des Whiskeys. \nDamit es nicht zu viel wird\, gibt’s auch was Passendes zum Naschen zum Whiskey Tasting dazu. \nEin wunderbarer Start ins Wochenende ! \nVeranstaltung buchen
URL:https://vierjahreszeiten-iserlohn.de/veranstaltungs-kalender/whiskey-tasting-3/
LOCATION:Bar Blaue Eule\, Seilerwaldstraße 10\, Iserlohn\, NRW\, 58636\, Deutschland
CATEGORIES:Blaue Eule Events,Tasting
ATTACH;FMTTYPE=image/jpeg:https://vierjahreszeiten-iserlohn.de/app/uploads/whiskey-tasting-blaue-eule.jpg
END:VEVENT
END:VCALENDAR